BEGIN:VCALENDAR
VERSION:2.0
PRODID:-//garraaventura.com.br - ECPv6.8.1//NONSGML v1.0//EN
CALSCALE:GREGORIAN
METHOD:PUBLISH
X-WR-CALNAME:garraaventura.com.br
X-ORIGINAL-URL:https://garraaventura.com.br
X-WR-CALDESC:Eventos para garraaventura.com.br
REFRESH-INTERVAL;VALUE=DURATION:PT1H
X-Robots-Tag:noindex
X-PUBLISHED-TTL:PT1H
BEGIN:VTIMEZONE
TZID:UTC
BEGIN:STANDARD
TZOFFSETFROM:+0000
TZOFFSETTO:+0000
TZNAME:UTC
DTSTART:20240101T000000
END:STANDARD
END:VTIMEZONE
BEGIN:VEVENT
DTSTART;VALUE=DATE:20241109
DTEND;VALUE=DATE:20241111
DTSTAMP:20260423T223009
CREATED:20241106T232622Z
LAST-MODIFIED:20241107T000727Z
UID:2967-1731110400-1731283199@garraaventura.com.br
SUMMARY:Curso de Escalada N1 para iniciantes.
DESCRIPTION:
URL:https://garraaventura.com.br/agenda/curso-de-escalada-n1-para-iniciantes/
LOCATION:Barra da Lagoa\, Florianópolis\, SC\, 88061-075-000\, Brazil
ORGANIZER;CN="Garra Aventura":MAILTO:garraaventura@gmail.com
END:VEVENT
END:VCALENDAR