BEGIN:VCALENDAR
VERSION:2.0
PRODID:-//garraaventura.com.br - ECPv6.8.1//NONSGML v1.0//EN
CALSCALE:GREGORIAN
METHOD:PUBLISH
X-ORIGINAL-URL:https://garraaventura.com.br
X-WR-CALDESC:Eventos para garraaventura.com.br
REFRESH-INTERVAL;VALUE=DURATION:PT1H
X-Robots-Tag:noindex
X-PUBLISHED-TTL:PT1H
BEGIN:VTIMEZONE
TZID:UTC
BEGIN:STANDARD
TZOFFSETFROM:+0000
TZOFFSETTO:+0000
TZNAME:UTC
DTSTART:20250101T000000
END:STANDARD
END:VTIMEZONE
BEGIN:VEVENT
DTSTART;TZID=UTC:20250119T080000
DTEND;TZID=UTC:20250119T080000
DTSTAMP:20260423T185436
CREATED:20241208T125126Z
LAST-MODIFIED:20241208T125138Z
UID:4289-1737273600-1737273600@garraaventura.com.br
SUMMARY:VII - Vivência de Escalada em Rocha de Tubarão e Região.
DESCRIPTION:Evento realizado para apresentar a Escalada em Rocha para quem nunca escalou ou para vc que curte praticar de vez em quando!\nVocê irá aprender um pouco do esporte com a palestra do nosso instrutor que tem já 30 anos como escalador e é claro\, irá escalar rotas para quem está iniciando com toda a segurança!!!\nVamos escalar 2 escaladas entre 15 a 20m! \nDomingo\, 19 de janeiro.\nDas 8h às 14h.\n…\nPonto de encontro será no Farol de Santa Marta.\n…\nInclui todos os equipamentos\, Guia certificado ABGM e seguro aventura.\nValor: 160\,00 em até 3x ou 140\,00 no pix.\nDesconto de 10% para casais e família!
URL:https://garraaventura.com.br/agenda/vii-vivencia-de-escalada-em-rocha-de-tubarao-e-regiao/
LOCATION:Farol de Santa Marta\, Laguna SC\, Laguna\, Santa Catarina\, Brazil
END:VEVENT
END:VCALENDAR