BEGIN:VCALENDAR
VERSION:2.0
PRODID:-//garraaventura.com.br - ECPv6.8.1//NONSGML v1.0//EN
CALSCALE:GREGORIAN
METHOD:PUBLISH
X-ORIGINAL-URL:https://garraaventura.com.br
X-WR-CALDESC:Eventos para garraaventura.com.br
REFRESH-INTERVAL;VALUE=DURATION:PT1H
X-Robots-Tag:noindex
X-PUBLISHED-TTL:PT1H
BEGIN:VTIMEZONE
TZID:UTC
BEGIN:STANDARD
TZOFFSETFROM:+0000
TZOFFSETTO:+0000
TZNAME:UTC
DTSTART:20250101T000000
END:STANDARD
END:VTIMEZONE
BEGIN:VEVENT
DTSTART;TZID=UTC:20250526T080000
DTEND;TZID=UTC:20250529T170000
DTSTAMP:20260423T102425
CREATED:20250411T134405Z
LAST-MODIFIED:20250411T134405Z
UID:4620-1748246400-1748538000@garraaventura.com.br
SUMMARY:Curso básico completo de Escalada. Nível I + II.
DESCRIPTION:Quatro dias de treinamento em Escalada em rocha para iniciantes.
URL:https://garraaventura.com.br/agenda/curso-basico-completo-de-escalada-nivel-i-ii/
LOCATION:Morro do boi\, Balneário Camboriú\, Santa Catarina\, Brazil
END:VEVENT
END:VCALENDAR