BEGIN:VCALENDAR
VERSION:2.0
PRODID:-//garraaventura.com.br - ECPv6.8.1//NONSGML v1.0//EN
CALSCALE:GREGORIAN
METHOD:PUBLISH
X-ORIGINAL-URL:https://garraaventura.com.br
X-WR-CALDESC:Eventos para garraaventura.com.br
REFRESH-INTERVAL;VALUE=DURATION:PT1H
X-Robots-Tag:noindex
X-PUBLISHED-TTL:PT1H
BEGIN:VTIMEZONE
TZID:UTC
BEGIN:STANDARD
TZOFFSETFROM:+0000
TZOFFSETTO:+0000
TZNAME:UTC
DTSTART:20250101T000000
END:STANDARD
END:VTIMEZONE
BEGIN:VEVENT
DTSTART;TZID=UTC:20250201T070000
DTEND;TZID=UTC:20250201T070000
DTSTAMP:20260423T205017
CREATED:20241208T132422Z
LAST-MODIFIED:20241208T133158Z
UID:4298-1738393200-1738393200@garraaventura.com.br
SUMMARY:Escalada Guiada Na Ponta da Galheta - Via Tardes der Outono 5 V+ 100m
DESCRIPTION:A via Tardes de Outono esta no famoso livro “50 vias clássicas do Brasil”\, uma escalada linda em visual deslumbrante! São 100m de escalada a beira mar realizada em 4 lances de corda. Além disso a trilha de acesso não deixa a desejar em beleza. \nEsta escalada é recomendada para pessoas com alguma experiência em escalada. \nSábado\, 01 de fevereiro. \nDas 7h às 12h.\n…\nPonto de encontro será na Ponte Pênsil da Barra da Lagoa.\n…\nInclui todos os equipamentos\, Guia certificado ABGM e seguro aventura.\nValor: 350\,00 em até 3x ou 300\,00 no pix.
URL:https://garraaventura.com.br/agenda/escalada-guiada-na-ponta-da-galheta-via-tardes-der-outono-5-v-100m/
LOCATION:Barra da Lagoa\, Florianópolis\, SC\, 88061-075-000\, Brazil
ORGANIZER;CN="Garra Aventura":MAILTO:garraaventura@gmail.com
END:VEVENT
BEGIN:VEVENT
DTSTART;TZID=UTC:20250202T070000
DTEND;TZID=UTC:20250202T070000
DTSTAMP:20260423T205017
CREATED:20241208T131827Z
LAST-MODIFIED:20241208T132121Z
UID:4295-1738479600-1738479600@garraaventura.com.br
SUMMARY:Escalada Guiada na Ponta dos Ingleses\, Florianópolis SC.
DESCRIPTION:Escaladas de até 80m no Morro da Ponta dos Ingleses\, localizado na Praia dos Ingleses. O local possui escaladas do fácil (IV à V) à vias mais desafiadoras (VI à VIIa). São escaladas com um visual incrível\, um dos cenários de escalada mais bonitos da ilha! \nPara participar desta escalada é bom ter alguma experiência anterior como ter participado de outras escaladas ou ter realizado curso básico nível I. Se estiver na dúvida se é adequado pra você\, consulte nos. \nDomingo\, 02 de fevereiro. \nDas 7h às 12h.\n…\nPonto de encontro será na Igreja Nossa Senhora dos Navegantes\, Praia dos Ingleses.\n…\nInclui todos os equipamentos\, Guia certificado ABGM e seguro aventura.\nValor: 350\,00 em até 3x ou 300\,00 no pix.
URL:https://garraaventura.com.br/agenda/escalada-guiada-na-ponta-dos-ingleses-florianopolis-sc/
LOCATION:Ponta dos Ingleses\, Florianópolis\, Brazil
ORGANIZER;CN="Garra Aventura":MAILTO:garraaventura@gmail.com
END:VEVENT
BEGIN:VEVENT
DTSTART;TZID=UTC:20250209T080000
DTEND;TZID=UTC:20250209T150000
DTSTAMP:20260423T205017
CREATED:20241208T135230Z
LAST-MODIFIED:20241209T195543Z
UID:4302-1739088000-1739113200@garraaventura.com.br
SUMMARY:XIII - Vivência de Escalada em Rocha de Tubarão e Região.
DESCRIPTION:
URL:https://garraaventura.com.br/agenda/ix-vivencia-de-escalada-em-rocha-de-tubarao-e-regiao/
LOCATION:Farol de Santa Marta\, Laguna SC\, Laguna\, Santa Catarina\, Brazil
ORGANIZER;CN="Garra Aventura":MAILTO:garraaventura@gmail.com
END:VEVENT
BEGIN:VEVENT
DTSTART;TZID=UTC:20250302T080000
DTEND;TZID=UTC:20250305T170000
DTSTAMP:20260423T205017
CREATED:20241208T140045Z
LAST-MODIFIED:20241208T140045Z
UID:4304-1740902400-1741194000@garraaventura.com.br
SUMMARY:Escalada Guiada em Torres RS.
DESCRIPTION:Três dias de climb no Parque da Guarita em Torres RS. Vamos ficar hospedados em camping próximo as escaladas e a praia com toda a infra estrutura. O local apresenta vias esportivas e tradicionais do IV ao VIII grau. \n 
URL:https://garraaventura.com.br/agenda/escalada-guiada-em-torres-rs/
LOCATION:Torres RS
END:VEVENT
BEGIN:VEVENT
DTSTART;TZID=UTC:20250308T080000
DTEND;TZID=UTC:20250309T170000
DTSTAMP:20260423T205017
CREATED:20241208T140606Z
LAST-MODIFIED:20241209T171230Z
UID:4310-1741420800-1741539600@garraaventura.com.br
SUMMARY:Curso de Escalada em rocha nível II - Guia de cordada\, Florianópolis SC.
DESCRIPTION:
URL:https://garraaventura.com.br/agenda/curso-de-escalada-em-rocha-nivel-ii-guia-de-cordada-florianopolis-sc/
LOCATION:Morro do boi\, Balneário Camboriú\, Santa Catarina\, Brazil
END:VEVENT
BEGIN:VEVENT
DTSTART;TZID=UTC:20250315T080000
DTEND;TZID=UTC:20250316T170000
DTSTAMP:20260423T205017
CREATED:20241208T140408Z
LAST-MODIFIED:20241208T140414Z
UID:4307-1742025600-1742144400@garraaventura.com.br
SUMMARY:II - Curso Básico de Escalada em Rocha nível II - Guia de Cordada\, Tubarão SC.
DESCRIPTION:
URL:https://garraaventura.com.br/agenda/ii-curso-basico-de-escalada-em-rocha-nivel-ii-guia-de-cordada-tubarao-sc/
LOCATION:Tubarão SC
ORGANIZER;CN="Garra Aventura":MAILTO:garraaventura@gmail.com
END:VEVENT
BEGIN:VEVENT
DTSTART;VALUE=DATE:20250412
DTEND;VALUE=DATE:20250414
DTSTAMP:20260423T205017
CREATED:20250206T192303Z
LAST-MODIFIED:20250206T192303Z
UID:4560-1744416000-1744588799@garraaventura.com.br
SUMMARY:Curso Básico de Escalada nível I.
DESCRIPTION:Formação de novos escaladores. O primeiro passo para se tornar um Escalador com autonomia.
URL:https://garraaventura.com.br/agenda/curso-basico-de-escalada-nivel-i/
LOCATION:Praia do Santinho\, Praia do Santinho\, Florianópolis\, SC\, Brazil
ORGANIZER;CN="Garra Aventura":MAILTO:garraaventura@gmail.com
END:VEVENT
BEGIN:VEVENT
DTSTART;TZID=UTC:20250419T080000
DTEND;TZID=UTC:20250419T080000
DTSTAMP:20260423T205017
CREATED:20250206T192920Z
LAST-MODIFIED:20250409T194313Z
UID:4562-1745049600-1745049600@garraaventura.com.br
SUMMARY:Vivência de Escalada em Rocha.
DESCRIPTION:Ideal para quem nunca escalou!
URL:https://garraaventura.com.br/agenda/vivencia-de-escalada-em-rocha/
LOCATION:Farol de Santa Marta\, Laguna SC\, Laguna\, Santa Catarina\, Brazil
END:VEVENT
BEGIN:VEVENT
DTSTART;VALUE=DATE:20250426
DTEND;VALUE=DATE:20250428
DTSTAMP:20260423T205017
CREATED:20250206T193715Z
LAST-MODIFIED:20250411T132247Z
UID:4565-1745625600-1745798399@garraaventura.com.br
SUMMARY:Curso de Escalada em rocha nível I.
DESCRIPTION:Treinamento de dois dias para iniciantes em escalada em rocha.
URL:https://garraaventura.com.br/agenda/curso-de-escalada-em-rocha-nivel-i/
LOCATION:Florianópolis SC
END:VEVENT
BEGIN:VEVENT
DTSTART;TZID=UTC:20250503T080000
DTEND;TZID=UTC:20250504T170000
DTSTAMP:20260423T205017
CREATED:20250411T133525Z
LAST-MODIFIED:20250411T133525Z
UID:4614-1746259200-1746378000@garraaventura.com.br
SUMMARY:Curso de Escalada em Rocha nível II.
DESCRIPTION:Treinamento de 2 dias em escalada guiada.
URL:https://garraaventura.com.br/agenda/curso-de-escalada-em-rocha-nivel-ii/
LOCATION:Florianópolis SC
END:VEVENT
BEGIN:VEVENT
DTSTART;TZID=UTC:20250517T080000
DTEND;TZID=UTC:20250518T170000
DTSTAMP:20260423T205017
CREATED:20250411T133157Z
LAST-MODIFIED:20250411T133157Z
UID:4611-1747468800-1747587600@garraaventura.com.br
SUMMARY:Curso de Escalada com proteções móveis.
DESCRIPTION:Treinamento de dois dias em escalada em livre com o uso de proteções móveis.
URL:https://garraaventura.com.br/agenda/curso-de-escalada-com-protecoes-moveis/
LOCATION:Rio dos Cedros SC\, Rio dos Cedros SC
END:VEVENT
BEGIN:VEVENT
DTSTART;TZID=UTC:20250520T080000
DTEND;TZID=UTC:20250521T170000
DTSTAMP:20260423T205017
CREATED:20250411T133823Z
LAST-MODIFIED:20250411T133823Z
UID:4616-1747728000-1747846800@garraaventura.com.br
SUMMARY:Curso de Escalada em rocha Nível I.
DESCRIPTION:Treinamento de dois dias\, para iniciantes em Escalada em rocha.
URL:https://garraaventura.com.br/agenda/curso-de-escalada-em-rocha-nivel-i-2/
LOCATION:Tubarão SC
END:VEVENT
BEGIN:VEVENT
DTSTART;VALUE=DATE:20250524
DTEND;VALUE=DATE:20250526
DTSTAMP:20260423T205017
CREATED:20250206T200146Z
LAST-MODIFIED:20250206T200146Z
UID:4569-1748044800-1748217599@garraaventura.com.br
SUMMARY:Curso Básico de Escalada nível I.
DESCRIPTION:Curso para à formação de novos escaladores. \nTubarão SC.
URL:https://garraaventura.com.br/agenda/curso-basico-de-escalada-nivel-i-2/
LOCATION:Tubarão SC
END:VEVENT
BEGIN:VEVENT
DTSTART;TZID=UTC:20250524T080000
DTEND;TZID=UTC:20250525T170000
DTSTAMP:20260423T205017
CREATED:20250411T134040Z
LAST-MODIFIED:20250411T134040Z
UID:4618-1748073600-1748192400@garraaventura.com.br
SUMMARY:Curso de Escalada em rocha nível I.
DESCRIPTION:Treinamento de dois dias para iniciantes em escalada em rocha.
URL:https://garraaventura.com.br/agenda/curso-de-escalada-em-rocha-nivel-i-3/
LOCATION:Farol de Santa Marta\, Laguna SC\, Laguna\, Santa Catarina\, Brazil
END:VEVENT
BEGIN:VEVENT
DTSTART;TZID=UTC:20250526T080000
DTEND;TZID=UTC:20250529T170000
DTSTAMP:20260423T205017
CREATED:20250411T134405Z
LAST-MODIFIED:20250411T134405Z
UID:4620-1748246400-1748538000@garraaventura.com.br
SUMMARY:Curso básico completo de Escalada. Nível I + II.
DESCRIPTION:Quatro dias de treinamento em Escalada em rocha para iniciantes.
URL:https://garraaventura.com.br/agenda/curso-basico-completo-de-escalada-nivel-i-ii/
LOCATION:Morro do boi\, Balneário Camboriú\, Santa Catarina\, Brazil
END:VEVENT
BEGIN:VEVENT
DTSTART;VALUE=DATE:20250531
DTEND;VALUE=DATE:20250602
DTSTAMP:20260423T205017
CREATED:20250206T191721Z
LAST-MODIFIED:20250411T132507Z
UID:4557-1748649600-1748822399@garraaventura.com.br
SUMMARY:CAR - Curso de Autorresgate para Escalada.
DESCRIPTION:Treinamento em técnicas de autorresgate para escaladores. Curso segue as exigências determinadas pela CBME para o curso CAR nível II.
URL:https://garraaventura.com.br/agenda/car-curso-de-autorresgate-para-escalada/
LOCATION:Morro do boi\, Balneário Camboriú\, Santa Catarina\, Brazil
ORGANIZER;CN="Garra Aventura":MAILTO:garraaventura@gmail.com
END:VEVENT
BEGIN:VEVENT
DTSTART;TZID=UTC:20250614T080000
DTEND;TZID=UTC:20250615T170000
DTSTAMP:20260423T205017
CREATED:20250411T134603Z
LAST-MODIFIED:20250411T134603Z
UID:4622-1749888000-1750006800@garraaventura.com.br
SUMMARY:Curso de Escalada em rocha nível I.
DESCRIPTION:Treinamento de dois dias em escalada em rocha para iniciantes.
URL:https://garraaventura.com.br/agenda/curso-de-escalada-em-rocha-nivel-i-4/
LOCATION:Florianópolis SC
END:VEVENT
BEGIN:VEVENT
DTSTART;TZID=UTC:20250713T083000
DTEND;TZID=UTC:20250713T143000
DTSTAMP:20260423T205017
CREATED:20250704T185115Z
LAST-MODIFIED:20250704T185115Z
UID:4663-1752395400-1752417000@garraaventura.com.br
SUMMARY:11 Vivência de Escalada em rocha de Tubarão e Região.
DESCRIPTION:Evento para apresentar a escalada em rocha para quem teve pouca ou nenhuma experiência.
URL:https://garraaventura.com.br/agenda/11-vivencia-de-escalada-em-rocha-de-tubarao-e-regiao/
LOCATION:Farol de Santa Marta\, Laguna SC\, Laguna\, Santa Catarina\, Brazil
END:VEVENT
BEGIN:VEVENT
DTSTART;TZID=UTC:20250726T083000
DTEND;TZID=UTC:20250727T160000
DTSTAMP:20260423T205017
CREATED:20250704T185602Z
LAST-MODIFIED:20250704T185602Z
UID:4666-1753518600-1753632000@garraaventura.com.br
SUMMARY:Curso de Escalada em rocha nível I.
DESCRIPTION:Treinamento para iniciar na escalada em rocha\, não precisa ter experiência.
URL:https://garraaventura.com.br/agenda/curso-de-escalada-em-rocha-nivel-i-5/
LOCATION:Florianópolis SC
END:VEVENT
BEGIN:VEVENT
DTSTART;TZID=UTC:20250802T080000
DTEND;TZID=UTC:20250803T160000
DTSTAMP:20260423T205018
CREATED:20250704T190000Z
LAST-MODIFIED:20250716T172405Z
UID:4668-1754121600-1754236800@garraaventura.com.br
SUMMARY:Treinamento de Escalada Guiada.
DESCRIPTION:Dia paravtreinar as téde guiada\, ideal para quem quer aprimorar\, aperfeiçoar sua guiada em escaladasde rochas.
URL:https://garraaventura.com.br/agenda/curso-de-escalada-com-protecoes-moveis-2/
LOCATION:Farol de Santa Marta\, Laguna SC\, Laguna\, Santa Catarina\, Brazil
END:VEVENT
BEGIN:VEVENT
DTSTART;TZID=UTC:20250816T080000
DTEND;TZID=UTC:20250817T170000
DTSTAMP:20260423T205018
CREATED:20250716T172950Z
LAST-MODIFIED:20250716T172950Z
UID:4675-1755331200-1755450000@garraaventura.com.br
SUMMARY:Curso de Escalada em Rocha nível II - Escalada Guiada.
DESCRIPTION:
URL:https://garraaventura.com.br/agenda/curso-de-escalada-em-rocha-nivel-ii-escalada-guiada/
LOCATION:Morro do boi\, Balneário Camboriú\, Santa Catarina\, Brazil
END:VEVENT
BEGIN:VEVENT
DTSTART;TZID=UTC:20250823T080000
DTEND;TZID=UTC:20250824T170000
DTSTAMP:20260423T205018
CREATED:20250716T173211Z
LAST-MODIFIED:20250716T173211Z
UID:4679-1755936000-1756054800@garraaventura.com.br
SUMMARY:Curso de Escalada em Rocha nível I.
DESCRIPTION:Curso de Escalada para iniciar\,  não precisa experiência.
URL:https://garraaventura.com.br/agenda/curso-de-escalada-em-rocha-nivel-i-6/
LOCATION:Tubarão SC
END:VEVENT
BEGIN:VEVENT
DTSTART;TZID=UTC:20250830T080000
DTEND;TZID=UTC:20250831T170000
DTSTAMP:20260423T205018
CREATED:20250716T173319Z
LAST-MODIFIED:20250716T173319Z
UID:4681-1756540800-1756659600@garraaventura.com.br
SUMMARY:Curso de Técnicas verticais nível I.
DESCRIPTION:
URL:https://garraaventura.com.br/agenda/curso-de-tecnicas-verticais-nivel-i/
LOCATION:Tubarão SC
END:VEVENT
END:VCALENDAR