BEGIN:VCALENDAR
VERSION:2.0
PRODID:-//garraaventura.com.br - ECPv6.8.1//NONSGML v1.0//EN
CALSCALE:GREGORIAN
METHOD:PUBLISH
X-ORIGINAL-URL:https://garraaventura.com.br
X-WR-CALDESC:Eventos para garraaventura.com.br
REFRESH-INTERVAL;VALUE=DURATION:PT1H
X-Robots-Tag:noindex
X-PUBLISHED-TTL:PT1H
BEGIN:VTIMEZONE
TZID:UTC
BEGIN:STANDARD
TZOFFSETFROM:+0000
TZOFFSETTO:+0000
TZNAME:UTC
DTSTART:20240101T000000
END:STANDARD
END:VTIMEZONE
BEGIN:VEVENT
DTSTART;VALUE=DATE:20241109
DTEND;VALUE=DATE:20241111
DTSTAMP:20260423T204334
CREATED:20241106T232622Z
LAST-MODIFIED:20241107T000727Z
UID:2967-1731110400-1731283199@garraaventura.com.br
SUMMARY:Curso de Escalada N1 para iniciantes.
DESCRIPTION:
URL:https://garraaventura.com.br/agenda/curso-de-escalada-n1-para-iniciantes/
LOCATION:Barra da Lagoa\, Florianópolis\, SC\, 88061-075-000\, Brazil
ORGANIZER;CN="Garra Aventura":MAILTO:garraaventura@gmail.com
END:VEVENT
BEGIN:VEVENT
DTSTART;VALUE=DATE:20241116
DTEND;VALUE=DATE:20241117
DTSTAMP:20260423T204334
CREATED:20241111T180004Z
LAST-MODIFIED:20241111T180004Z
UID:2995-1731715200-1731801599@garraaventura.com.br
SUMMARY:Vivência de Escalada. Sua primeira escalada!
DESCRIPTION:
URL:https://garraaventura.com.br/agenda/vivencia-de-escalada-sua-primeira-escalada-2/
LOCATION:Barra da Lagoa\, Florianópolis\, SC\, 88061-075-000\, Brazil
ORGANIZER;CN="Garra Aventura":MAILTO:garraaventura@gmail.com
END:VEVENT
BEGIN:VEVENT
DTSTART;VALUE=DATE:20241117
DTEND;VALUE=DATE:20241118
DTSTAMP:20260423T204334
CREATED:20241111T180154Z
LAST-MODIFIED:20241111T180740Z
UID:2997-1731801600-1731887999@garraaventura.com.br
SUMMARY:Vivência de Escalada. Sua primeira Escalada!
DESCRIPTION:
URL:https://garraaventura.com.br/agenda/vivencia-de-escalada-sua-primeira-escalada-3/
LOCATION:Praia do Santinho\, Praia do Santinho\, Florianópolis\, SC\, Brazil
ORGANIZER;CN="Garra Aventura":MAILTO:garraaventura@gmail.com
END:VEVENT
BEGIN:VEVENT
DTSTART;VALUE=DATE:20241215
DTEND;VALUE=DATE:20241216
DTSTAMP:20260423T204334
CREATED:20241111T180427Z
LAST-MODIFIED:20241206T230442Z
UID:3000-1734220800-1734220800@garraaventura.com.br
SUMMARY:Vivência de Escalada em Rocha
DESCRIPTION:
URL:https://garraaventura.com.br/agenda/curso-de-escalada-n1-para-iniciantes-2/
LOCATION:Farol de Santa Marta\, Laguna SC\, Laguna\, Santa Catarina\, Brazil
ORGANIZER;CN="Garra Aventura":MAILTO:garraaventura@gmail.com
END:VEVENT
END:VCALENDAR