BEGIN:VCALENDAR
VERSION:2.0
PRODID:-//garraaventura.com.br - ECPv6.8.1//NONSGML v1.0//EN
CALSCALE:GREGORIAN
METHOD:PUBLISH
X-ORIGINAL-URL:https://garraaventura.com.br
X-WR-CALDESC:Eventos para garraaventura.com.br
REFRESH-INTERVAL;VALUE=DURATION:PT1H
X-Robots-Tag:noindex
X-PUBLISHED-TTL:PT1H
BEGIN:VTIMEZONE
TZID:UTC
BEGIN:STANDARD
TZOFFSETFROM:+0000
TZOFFSETTO:+0000
TZNAME:UTC
DTSTART:20250101T000000
END:STANDARD
END:VTIMEZONE
BEGIN:VEVENT
DTSTART;TZID=UTC:20250302T080000
DTEND;TZID=UTC:20250305T170000
DTSTAMP:20260423T135846
CREATED:20241208T140045Z
LAST-MODIFIED:20241208T140045Z
UID:4304-1740902400-1741194000@garraaventura.com.br
SUMMARY:Escalada Guiada em Torres RS.
DESCRIPTION:Três dias de climb no Parque da Guarita em Torres RS. Vamos ficar hospedados em camping próximo as escaladas e a praia com toda a infra estrutura. O local apresenta vias esportivas e tradicionais do IV ao VIII grau. \n 
URL:https://garraaventura.com.br/agenda/escalada-guiada-em-torres-rs/
LOCATION:Torres RS
END:VEVENT
BEGIN:VEVENT
DTSTART;TZID=UTC:20250308T080000
DTEND;TZID=UTC:20250309T170000
DTSTAMP:20260423T135846
CREATED:20241208T140606Z
LAST-MODIFIED:20241209T171230Z
UID:4310-1741420800-1741539600@garraaventura.com.br
SUMMARY:Curso de Escalada em rocha nível II - Guia de cordada\, Florianópolis SC.
DESCRIPTION:
URL:https://garraaventura.com.br/agenda/curso-de-escalada-em-rocha-nivel-ii-guia-de-cordada-florianopolis-sc/
LOCATION:Morro do boi\, Balneário Camboriú\, Santa Catarina\, Brazil
END:VEVENT
BEGIN:VEVENT
DTSTART;TZID=UTC:20250315T080000
DTEND;TZID=UTC:20250316T170000
DTSTAMP:20260423T135846
CREATED:20241208T140408Z
LAST-MODIFIED:20241208T140414Z
UID:4307-1742025600-1742144400@garraaventura.com.br
SUMMARY:II - Curso Básico de Escalada em Rocha nível II - Guia de Cordada\, Tubarão SC.
DESCRIPTION:
URL:https://garraaventura.com.br/agenda/ii-curso-basico-de-escalada-em-rocha-nivel-ii-guia-de-cordada-tubarao-sc/
LOCATION:Tubarão SC
ORGANIZER;CN="Garra Aventura":MAILTO:garraaventura@gmail.com
END:VEVENT
END:VCALENDAR